BEGIN:VCALENDAR
PRODID:-//eluceo/ical//2.0/EN
VERSION:2.0
CALSCALE:GREGORIAN
BEGIN:VEVENT
UID:9b432afed6ac6551a562216d0ca95519
DTSTAMP:20260423T075314Z
SUMMARY:Rottweil von Vortrag von Christof Glaus
DESCRIPTION:Relatore/i: Christof Glaus
URL:https://rotary-limmattal.ch/it/agenda/show/71420
DTSTART;TZID=Europe/Zurich:20170302T120000
DTEND;TZID=Europe/Zurich:20170302T160000
LOCATION:Rottweil
CATEGORIES:Rotary
END:VEVENT
BEGIN:VTIMEZONE
TZID:Europe/Zurich
BEGIN:STANDARD
DTSTART:20170302T120000
TZNAME:CET
TZOFFSETTO:+0100
TZOFFSETFROM:+0100
END:STANDARD
END:VTIMEZONE
END:VCALENDAR
