BEGIN:VCALENDAR
PRODID:-//eluceo/ical//2.0/EN
VERSION:2.0
CALSCALE:GREGORIAN
BEGIN:VEVENT
UID:514e3f60bfb55d84c895ee16714f5a00
DTSTAMP:20260423T163204Z
SUMMARY:Skiwochenende mit RC Rottweil
DESCRIPTION:Skiwochenende mit unseren Rottweiler Freunden in den Flumserber
 gen\, \n\n\nTreffpunkt: Freitag 10. Februar 2017\; 12.00 Tannenboden\,\nÜ
 bernachtung im Hotel Seebenalp im 2er-Zimmer\,\nRückreise Sonntag 12. Feb
 ruar 2017 ab dem Frühstück individuell.\n\nSito web: http://www.seebenal
 p.ch
URL:https://rotary-limmattal.ch/it/agenda/show/71413
DTSTART;TZID=Europe/Zurich:20170210T120000
DTEND;TZID=Europe/Zurich:20170212T090000
LOCATION:-
CATEGORIES:Rotary
END:VEVENT
BEGIN:VTIMEZONE
TZID:Europe/Zurich
BEGIN:STANDARD
DTSTART:20170210T120000
TZNAME:CET
TZOFFSETTO:+0100
TZOFFSETFROM:+0100
END:STANDARD
END:VTIMEZONE
END:VCALENDAR
