BEGIN:VCALENDAR
PRODID:-//eluceo/ical//2.0/EN
VERSION:2.0
CALSCALE:GREGORIAN
BEGIN:VEVENT
UID:49c598a100ea7f85bbf817eea2a6b6c1
DTSTAMP:20260423T092437Z
SUMMARY:Lunch mit Referat 'Visionen und Herausforderungen eines Startups'. 
 Reto Naef
DESCRIPTION:Sito web: http://www.swiss-startup-pitch.ch/pitch/ssud15-topadu
 r/\nRelatore/i: Referent: Reto Naef\nReferat: 'Visionen und Herausforderun
 gen eines Startups'
URL:https://rotary-limmattal.ch/it/agenda/show/69134
DTSTART;TZID=Europe/Zurich:20170301T120000
DTEND;TZID=Europe/Zurich:20170301T140000
LOCATION:Taverne zur Krone
CATEGORIES:Rotary
END:VEVENT
BEGIN:VTIMEZONE
TZID:Europe/Zurich
BEGIN:STANDARD
DTSTART:20170301T120000
TZNAME:CET
TZOFFSETTO:+0100
TZOFFSETFROM:+0100
END:STANDARD
END:VTIMEZONE
END:VCALENDAR
