BEGIN:VCALENDAR
PRODID:-//eluceo/ical//2.0/EN
VERSION:2.0
CALSCALE:GREGORIAN
BEGIN:VEVENT
UID:10c7090ee5d12138cad9d15ebfdf727f
DTSTAMP:20260423T110218Z
SUMMARY:Lunch mit Referat\, 'Rare Genomics' Caroline Henggeler
DESCRIPTION:Sito web: http://www.genetikzentrum.ch/\nRelatore/i: Dipl. Biol
 . Caroline Henggeler\, FAMH Medizinische Genetik\nZentrum für Kardiovasku
 läre Genetik und Gendiagnostik\nReferat\, 'Rare Genomics' 
URL:https://rotary-limmattal.ch/it/agenda/show/69133
DTSTART;TZID=Europe/Zurich:20170222T120000
DTEND;TZID=Europe/Zurich:20170222T140000
LOCATION:Taverne zur Krone
CATEGORIES:Rotary
END:VEVENT
BEGIN:VTIMEZONE
TZID:Europe/Zurich
BEGIN:STANDARD
DTSTART:20170222T120000
TZNAME:CET
TZOFFSETTO:+0100
TZOFFSETFROM:+0100
END:STANDARD
END:VTIMEZONE
END:VCALENDAR
