BEGIN:VCALENDAR
PRODID:-//eluceo/ical//2.0/EN
VERSION:2.0
CALSCALE:GREGORIAN
BEGIN:VEVENT
UID:3c0f219ae64b2fdd8373e903265488b1
DTSTAMP:20260423T143948Z
SUMMARY:Plauderlunch
DESCRIPTION:
URL:https://rotary-limmattal.ch/it/agenda/show/69132
DTSTART;TZID=Europe/Zurich:20170215T120000
DTEND;TZID=Europe/Zurich:20170215T140000
LOCATION:Taverne zur Krone
CATEGORIES:Rotary
END:VEVENT
BEGIN:VTIMEZONE
TZID:Europe/Zurich
BEGIN:STANDARD
DTSTART:20170215T120000
TZNAME:CET
TZOFFSETTO:+0100
TZOFFSETFROM:+0100
END:STANDARD
END:VTIMEZONE
END:VCALENDAR
