BEGIN:VCALENDAR
PRODID:-//eluceo/ical//2.0/EN
VERSION:2.0
CALSCALE:GREGORIAN
BEGIN:VEVENT
UID:811fadca5929d447e54d8e761fb12026
DTSTAMP:20260423T180902Z
SUMMARY:Dinner@Home
DESCRIPTION:Einladung zum „Dinner at home“ vom 8. Februar 2017\n\n \n\
 nLiebe Rotarierinnen und Rotarier\n\nEs freut mich sehr\, euch zu einem 
 „Dinner hat home“ einladen zu dürfen. Schon jetzt ein\n\nherzliches D
 ankeschön unserer Gastgeberin und unseren Gastgebern. Das sind:\n\n\nAndr
 ea Degen\nChristian Bertschinger \nRenzo Albizzati \n\n\n \n\nEin „Dinn
 er at home“ beginnt in der Regel um 18.00 Uhr und ist kein Partneranlass
 . Die Zuteilung an die Gastgeber erfolgt nach erfolgter Anmeldung durch de
 n Präsidenten.\n\n\nAnmeldung: Bitte bis spätestens am 1. Februar 2017 d
 em Programmchef abgeben oder per E-Mail an hanspeter.friedli@pestalozzi.co
 m Name\, Vorname: \n\n\n \nRelatore/i: Gastgeberin/Gastgebern:\n\nAndrea
  Degen\nChristian Bertschinger \nRenzo Albizzati  Albizatti
URL:https://rotary-limmattal.ch/it/agenda/show/69130
DTSTART;TZID=Europe/Zurich:20170208T180000
DTEND;TZID=Europe/Zurich:20170208T230000
LOCATION:diverse
CATEGORIES:Rotary
END:VEVENT
BEGIN:VTIMEZONE
TZID:Europe/Zurich
BEGIN:STANDARD
DTSTART:20170208T180000
TZNAME:CET
TZOFFSETTO:+0100
TZOFFSETFROM:+0100
END:STANDARD
END:VTIMEZONE
END:VCALENDAR
