BEGIN:VCALENDAR
PRODID:-//eluceo/ical//2.0/EN
VERSION:2.0
CALSCALE:GREGORIAN
BEGIN:VEVENT
UID:d67fdfddee35d652bb91f9cac5ce77a4
DTSTAMP:20260423T163029Z
SUMMARY:Lunch & Besuch Governor DG Arthur Ruf
DESCRIPTION:Sito web: https://mail.google.com/mail/u/1/?tab=wm#search/gover
 nor/1520c9770ea49232?projector=1\nRelatore/i: DG Arthur Ruf
URL:https://rotary-limmattal.ch/it/agenda/show/58968
DTSTART;TZID=Europe/Zurich:20160120T120000
DTEND;TZID=Europe/Zurich:20160120T140000
LOCATION:Taverne zur Krone
CATEGORIES:Rotary
END:VEVENT
BEGIN:VTIMEZONE
TZID:Europe/Zurich
BEGIN:STANDARD
DTSTART:20160120T120000
TZNAME:CET
TZOFFSETTO:+0100
TZOFFSETFROM:+0100
END:STANDARD
END:VTIMEZONE
END:VCALENDAR
