BEGIN:VCALENDAR
PRODID:-//eluceo/ical//2.0/EN
VERSION:2.0
CALSCALE:GREGORIAN
BEGIN:VEVENT
UID:deddca1003422da2d05b4e35d4dc5596
DTSTAMP:20260423T023252Z
SUMMARY:Motivation: Mit 135kmh kopfvoran\,
DESCRIPTION:Vortrag: Motivation: Mit 135kmh kopfvoran\,\nReferent: Gregor
  Stähli\, Omnimedica\nMehr Infos: Gregor Stähli on FB\nOmnimedica: http
 ://www.omnimedica.com/\nSito web: https://www.facebook.com/gregor.stahli\n
 Relatore/i: Gregor Stähli\, Omnimedica
URL:https://rotary-limmattal.ch/it/agenda/show/47493
DTSTART;TZID=Europe/Zurich:20150318T120000
DTEND;TZID=Europe/Zurich:20150318T140000
LOCATION:Restaurant Stürmeierhuus
CATEGORIES:Rotary
END:VEVENT
BEGIN:VTIMEZONE
TZID:Europe/Zurich
BEGIN:STANDARD
DTSTART:20150318T120000
TZNAME:CET
TZOFFSETTO:+0100
TZOFFSETFROM:+0100
END:STANDARD
END:VTIMEZONE
END:VCALENDAR
