BEGIN:VCALENDAR
PRODID:-//eluceo/ical//2.0/EN
VERSION:2.0
CALSCALE:GREGORIAN
BEGIN:VEVENT
UID:d296528293ff0c20c914bc8433730449
DTSTAMP:20260421T124114Z
SUMMARY:Vortrag: "Wie wird das Wetter?"
DESCRIPTION:Relatore/i: Referent: Herr Peter Wick\, Meteoschweiz
URL:https://rotary-limmattal.ch/it/agenda/show/44847
DTSTART;TZID=Europe/Zurich:20141105T120000
DTEND;TZID=Europe/Zurich:20141105T140000
LOCATION:Restaurant Stürmeierhuus
CATEGORIES:Rotary
END:VEVENT
BEGIN:VTIMEZONE
TZID:Europe/Zurich
BEGIN:STANDARD
DTSTART:20141105T120000
TZNAME:CET
TZOFFSETTO:+0100
TZOFFSETFROM:+0100
END:STANDARD
END:VTIMEZONE
END:VCALENDAR
