BEGIN:VCALENDAR
PRODID:-//eluceo/ical//2.0/EN
VERSION:2.0
CALSCALE:GREGORIAN
BEGIN:VEVENT
UID:9fe29bc65ae60bf10d6f07f72792e216
DTSTAMP:20260421T124405Z
SUMMARY:Curling - Plausch Urdorf
DESCRIPTION:Weitere Infos zum Anlass folgen.\n\nKunsteisbahn\, Weihermatts
 trasse 60 8902 Urdorf \n\nTelefon:    044 734 18 68 (Kasse)\nTelefon:
     044 734 10 70 (Verpflegungsbetrieb)\n \nRelatore/i: Organisation F
 ritz Krieg
URL:https://rotary-limmattal.ch/it/agenda/show/44846
DTSTART;TZID=Europe/Zurich:20141101T090000
DTEND;TZID=Europe/Zurich:20141101T170000
LOCATION:Eisbahn Urdorf
CATEGORIES:Rotary
END:VEVENT
BEGIN:VTIMEZONE
TZID:Europe/Zurich
BEGIN:STANDARD
DTSTART:20141101T090000
TZNAME:CET
TZOFFSETTO:+0100
TZOFFSETFROM:+0100
END:STANDARD
END:VTIMEZONE
END:VCALENDAR
