BEGIN:VCALENDAR
PRODID:-//eluceo/ical//2.0/EN
VERSION:2.0
CALSCALE:GREGORIAN
BEGIN:VEVENT
UID:90e3107dba06a8cc5c63e677255b73c2
DTSTAMP:20260423T021920Z
SUMMARY:Solvita-Sommeranlass mit Kutschenfahrt und Bauern-Olympiade
DESCRIPTION:
URL:https://rotary-limmattal.ch/it/agenda/show/175898
DTSTART;TZID=Europe/Zurich:20240525T130000
DTEND;TZID=Europe/Zurich:20240525T170000
LOCATION:https://maps.app.goo.gl/8WJ2B7Chy5Tpq45N6
CATEGORIES:Rotary
END:VEVENT
BEGIN:VTIMEZONE
TZID:Europe/Zurich
BEGIN:DAYLIGHT
DTSTART:20240525T130000
TZNAME:CEST
TZOFFSETTO:+0200
TZOFFSETFROM:+0200
END:DAYLIGHT
END:VTIMEZONE
END:VCALENDAR
