BEGIN:VCALENDAR
PRODID:-//eluceo/ical//2.0/EN
VERSION:2.0
CALSCALE:GREGORIAN
BEGIN:VEVENT
UID:43bb02b568a5641b73f81604c8722e97
DTSTAMP:20260423T041228Z
SUMMARY:Referat von Werner Lieberherr\, CEO Landis+Gyr Group
DESCRIPTION:Sito web: https://www.gotomeeting.com/de-ch/meeting/meeting-bei
 treten
URL:https://rotary-limmattal.ch/it/agenda/show/175897
DTSTART;TZID=Europe/Zurich:20240522T120000
DTEND;TZID=Europe/Zurich:20240522T140000
LOCATION:E-Lunch\, Zugangscode: 799-898-581\, Schweiz
CATEGORIES:Rotary
END:VEVENT
BEGIN:VTIMEZONE
TZID:Europe/Zurich
BEGIN:DAYLIGHT
DTSTART:20240522T120000
TZNAME:CEST
TZOFFSETTO:+0200
TZOFFSETFROM:+0200
END:DAYLIGHT
END:VTIMEZONE
END:VCALENDAR
