BEGIN:VCALENDAR
PRODID:-//eluceo/ical//2.0/EN
VERSION:2.0
CALSCALE:GREGORIAN
BEGIN:VEVENT
UID:abced45a9b9733208e7aa1f423fdd7ad
DTSTAMP:20260421T185930Z
SUMMARY:Referat Claudia Rusert\, Jugendprojekt LIFT
DESCRIPTION:Sito web: https://www.gotomeeting.com/de-ch/meeting/meeting-bei
 treten
URL:https://rotary-limmattal.ch/it/agenda/show/171310
DTSTART;TZID=Europe/Zurich:20240221T120000
DTEND;TZID=Europe/Zurich:20240221T140000
LOCATION:E-Lunch\, Zugangscode: 799-898-581\, Schweiz
CATEGORIES:Rotary
END:VEVENT
BEGIN:VTIMEZONE
TZID:Europe/Zurich
BEGIN:STANDARD
DTSTART:20240221T120000
TZNAME:CET
TZOFFSETTO:+0100
TZOFFSETFROM:+0100
END:STANDARD
END:VTIMEZONE
END:VCALENDAR
