BEGIN:VCALENDAR
PRODID:-//eluceo/ical//2.0/EN
VERSION:2.0
CALSCALE:GREGORIAN
BEGIN:VEVENT
UID:615ca0cb94bdcb37328c4f450cd6d246
DTSTAMP:20260422T204852Z
SUMMARY:Interdistriktkonferenz 100 Jahre Rotary Schweiz
DESCRIPTION:Sito web: https://goo.gl/maps/Mcq71wogdK94uxjx7\nRelatore/i: AC
 HTUNG - DIE ANMELDUNG AUF DIESER SEITE DIENT NUR DER INTERNEN KOORDINATION
 !
URL:https://rotary-limmattal.ch/it/agenda/show/164106
DTSTART;TZID=Europe/Zurich:20240622T130000
DTEND;TZID=Europe/Zurich:20240622T235500
LOCATION:Kursaal Bern
CATEGORIES:Rotary
END:VEVENT
BEGIN:VTIMEZONE
TZID:Europe/Zurich
BEGIN:DAYLIGHT
DTSTART:20240622T130000
TZNAME:CEST
TZOFFSETTO:+0200
TZOFFSETFROM:+0200
END:DAYLIGHT
END:VTIMEZONE
END:VCALENDAR
