BEGIN:VCALENDAR
PRODID:-//eluceo/ical//2.0/EN
VERSION:2.0
CALSCALE:GREGORIAN
BEGIN:VEVENT
UID:1052bf895d4cfda69bdbfb62ed719403
DTSTAMP:20260423T143851Z
SUMMARY:Lunch @Work
DESCRIPTION:
URL:https://rotary-limmattal.ch/it/agenda/show/133389
DTSTART;TZID=Europe/Zurich:20211027T120000
DTEND;TZID=Europe/Zurich:20211027T140000
LOCATION:Verschiedene Standorte
CATEGORIES:Rotary
END:VEVENT
BEGIN:VTIMEZONE
TZID:Europe/Zurich
BEGIN:DAYLIGHT
DTSTART:20211027T120000
TZNAME:CEST
TZOFFSETTO:+0200
TZOFFSETFROM:+0200
END:DAYLIGHT
END:VTIMEZONE
END:VCALENDAR
