BEGIN:VCALENDAR
PRODID:-//eluceo/ical//2.0/EN
VERSION:2.0
CALSCALE:GREGORIAN
BEGIN:VEVENT
UID:9e221c948152e85ff6afa2d160ba00ba
DTSTAMP:20260423T055430Z
SUMMARY:ROKJ Schach Benefiz Veranstaltung
DESCRIPTION:Detail Informationen im Anhang\nSito web: https://rokj.ch/schac
 h-benefizturnier-in-dietikon/
URL:https://rotary-limmattal.ch/it/agenda/show/103306
DTSTART;TZID=Europe/Zurich:20190904T133000
DTEND;TZID=Europe/Zurich:20190904T170000
LOCATION:Markthalle Dietikon
CATEGORIES:Rotary
END:VEVENT
BEGIN:VTIMEZONE
TZID:Europe/Zurich
BEGIN:DAYLIGHT
DTSTART:20190904T133000
TZNAME:CEST
TZOFFSETTO:+0200
TZOFFSETFROM:+0200
END:DAYLIGHT
END:VTIMEZONE
END:VCALENDAR
