BEGIN:VCALENDAR
PRODID:-//eluceo/ical//2.0/EN
VERSION:2.0
CALSCALE:GREGORIAN
BEGIN:VEVENT
UID:627da3a613fc4136c8f9bb1df0be095f
DTSTAMP:20260424T234859Z
SUMMARY:Plauder Lunch
DESCRIPTION:
URL:https://rotary-limmattal.ch/fr/agenda/show/85572
DTSTART;TZID=Europe/Zurich:20180523T120000
DTEND;TZID=Europe/Zurich:20180523T140000
LOCATION:Taverne zur Krone
CATEGORIES:Rotary
END:VEVENT
BEGIN:VTIMEZONE
TZID:Europe/Zurich
BEGIN:DAYLIGHT
DTSTART:20180523T120000
TZNAME:CEST
TZOFFSETTO:+0200
TZOFFSETFROM:+0200
END:DAYLIGHT
END:VTIMEZONE
END:VCALENDAR
