BEGIN:VCALENDAR
PRODID:-//eluceo/ical//2.0/EN
VERSION:2.0
CALSCALE:GREGORIAN
BEGIN:VEVENT
UID:873128c7c9bde47df3cc032017b4d7e9
DTSTAMP:20260424T235712Z
SUMMARY:Plauderlunch
DESCRIPTION:
URL:https://rotary-limmattal.ch/fr/agenda/show/85571
DTSTART;TZID=Europe/Zurich:20180516T120000
DTEND;TZID=Europe/Zurich:20180516T140000
LOCATION:Taverne zur Krone
CATEGORIES:Rotary
END:VEVENT
BEGIN:VTIMEZONE
TZID:Europe/Zurich
BEGIN:DAYLIGHT
DTSTART:20180516T120000
TZNAME:CEST
TZOFFSETTO:+0200
TZOFFSETFROM:+0200
END:DAYLIGHT
END:VTIMEZONE
END:VCALENDAR
