BEGIN:VCALENDAR
PRODID:-//eluceo/ical//2.0/EN
VERSION:2.0
CALSCALE:GREGORIAN
BEGIN:VEVENT
UID:a3f583b2106c851d4d9dee939ee2c1ab
DTSTAMP:20260424T185305Z
SUMMARY:Apéro mit Zigarre
DESCRIPTION:Wieder einmal ist es soweit: Am Dienstag\, den 1. November f
 indet unser nächster Zigarrenapéro in der AVO Maria Lounge in Dietik
 on statt. Ich freue mich auf ein gemütliches Beisammensein und auf eine 
 rege Teilnahme.\n\nIch bitte um Anmeldung per Email.\n\nBeste Grüsse\n\n
 Fritz\n\n \nSite internet: http://avomarialounge.ch/wp/
URL:https://rotary-limmattal.ch/fr/agenda/show/68216
DTSTART;TZID=Europe/Zurich:20161101T180000
DTEND;TZID=Europe/Zurich:20161101T200000
LOCATION:AVO Maria Lounge Oberdorfstrasse 51\, 8953 Dietikon
CATEGORIES:Rotary
END:VEVENT
BEGIN:VTIMEZONE
TZID:Europe/Zurich
BEGIN:STANDARD
DTSTART:20161101T180000
TZNAME:CET
TZOFFSETTO:+0100
TZOFFSETFROM:+0100
END:STANDARD
END:VTIMEZONE
END:VCALENDAR
