BEGIN:VCALENDAR
PRODID:-//eluceo/ical//2.0/EN
VERSION:2.0
CALSCALE:GREGORIAN
BEGIN:VEVENT
UID:8a858c858713ab1aa3234f0db1c8ba24
DTSTAMP:20260424T194529Z
SUMMARY:test
DESCRIPTION:testtest
URL:https://rotary-limmattal.ch/fr/agenda/show/44969
DTSTART;TZID=Europe/Zurich:20140923T000000
DTEND;TZID=Europe/Zurich:20140923T000000
LOCATION:Restaurant Stürmeierhuus
CATEGORIES:Rotary
END:VEVENT
BEGIN:VTIMEZONE
TZID:Europe/Zurich
BEGIN:DAYLIGHT
DTSTART:20140923T000000
TZNAME:CEST
TZOFFSETTO:+0200
TZOFFSETFROM:+0200
END:DAYLIGHT
END:VTIMEZONE
END:VCALENDAR
