BEGIN:VCALENDAR
PRODID:-//eluceo/ical//2.0/EN
VERSION:2.0
CALSCALE:GREGORIAN
BEGIN:VEVENT
UID:3e109dcf53f65c7af914b422df8d22be
DTSTAMP:20260424T214431Z
SUMMARY:Vortrag: "Ohne Mittel keine Titel".
DESCRIPTION:Conférencier(s): Referent: Jean-Pierre Egloff\,  Antidoping Sc
 hweiz
URL:https://rotary-limmattal.ch/fr/agenda/show/44842
DTSTART;TZID=Europe/Zurich:20141008T120000
DTEND;TZID=Europe/Zurich:20141008T140000
LOCATION:Restaurant Stürmeierhuus
CATEGORIES:Rotary
END:VEVENT
BEGIN:VTIMEZONE
TZID:Europe/Zurich
BEGIN:DAYLIGHT
DTSTART:20141008T120000
TZNAME:CEST
TZOFFSETTO:+0200
TZOFFSETFROM:+0200
END:DAYLIGHT
END:VTIMEZONE
END:VCALENDAR
