BEGIN:VCALENDAR
PRODID:-//eluceo/ical//2.0/EN
VERSION:2.0
CALSCALE:GREGORIAN
BEGIN:VEVENT
UID:8eacdfd2b454ad7dfec5fbfb65054a1e
DTSTAMP:20260424T193938Z
SUMMARY:Partneranlass: Besuch der Firma Freitag AG - BITTE ANMELDEN
DESCRIPTION:Die beiden Brüder Freitag\, welche einst für sich Taschen aus
  Lastwagenblachen gefertigt haben um die eigenen Skizzen auf dem Fahrrad v
 or dem Regen zu schützen und heute gemeinsam mit einer beachtlichen Firma
  Tonnen von Lastwagenblachen\, Autogurten und Veloreifen zu Taschen verarb
 eiten. Die Taschen sind auf der ganzen Welt ein Trend und jede Tasche ist 
 ein Unikat. Eine echte Erfolgsstory! Die Besichtigung beginnt um 19:00 Uhr
  und im Anschluss gibt es dann auch noch einen Apéro Riche.\n\nDetails zu
 m Anlass\n\n- Beginn der Führung in 2 Gruppen am Mittwoch\, 1. Oktober um
  19h\n- Dauer der Führung bis 20.30h\n- Anschliessend Apéro riche und gl
 eichzeitig „Rumstöbern“ im Freitag Store (10% Rabatt)\n- Ende spätes
 tens 22h\n- Kosten pro Person CHF 50.-\n\nBesucher Parkplätze gibt es nur
  im Parkhaus neben dem NOERD Gebäude im 6. Stock\, welche jedoch limitier
 t sind. Ansonsten das Parkhaus des Coop Eleven benutzen (5 Minuten zu Fuss
 )\n\nWir treffen uns direkt bei der Firma Freitag an der Binzmühlestrasse
  170b\, 8050 Zürich (siehe auch www.noerd.ch oder www.freitag.ch).\n 
 \n\n \n\nTreffpunkt: wird noch kommuniziert\nAnmeldung erforderlich\nMenu
 : Apéro Riche\nSite internet: http:www.freitag.ch\nConférencier(s): Refe
 rent - pendent
URL:https://rotary-limmattal.ch/fr/agenda/show/43782
DTSTART;TZID=Europe/Zurich:20141001T190000
DTEND;TZID=Europe/Zurich:20141001T220000
LOCATION:Gewerbehaus Noerd\, Binzmühlestr. 170b\, Zürich
CATEGORIES:Rotary
END:VEVENT
BEGIN:VTIMEZONE
TZID:Europe/Zurich
BEGIN:DAYLIGHT
DTSTART:20141001T190000
TZNAME:CEST
TZOFFSETTO:+0200
TZOFFSETFROM:+0200
END:DAYLIGHT
END:VTIMEZONE
END:VCALENDAR
