BEGIN:VCALENDAR
PRODID:-//eluceo/ical//2.0/EN
VERSION:2.0
CALSCALE:GREGORIAN
BEGIN:VEVENT
UID:1f81364963bb73edbff2a6425eed750c
DTSTAMP:20260421T222338Z
SUMMARY:Hands-On Projekt Fam. Abderhalden Termin 1
DESCRIPTION:Conférencier(s): Details folgen
URL:https://rotary-limmattal.ch/fr/agenda/show/142595
DTSTART;TZID=Europe/Zurich:20220902T080000
DTEND;TZID=Europe/Zurich:20220903T120000
LOCATION:Details folgen
CATEGORIES:Rotary
END:VEVENT
BEGIN:VTIMEZONE
TZID:Europe/Zurich
BEGIN:DAYLIGHT
DTSTART:20220902T080000
TZNAME:CEST
TZOFFSETTO:+0200
TZOFFSETFROM:+0200
END:DAYLIGHT
END:VTIMEZONE
END:VCALENDAR
