BEGIN:VCALENDAR
PRODID:-//eluceo/ical//2.0/EN
VERSION:2.0
CALSCALE:GREGORIAN
BEGIN:VEVENT
UID:cbba390541f49a743d9bc8ba2c35eaaa
DTSTAMP:20260422T071306Z
SUMMARY:Lunch mit Referat (hybrid / Taverne zur Krone & online)
DESCRIPTION:Site internet: https://www.gotomeeting.com/de-ch/meeting/meetin
 g-beitreten\nConférencier(s): Attila Stanelle
URL:https://rotary-limmattal.ch/fr/agenda/show/140988
DTSTART;TZID=Europe/Zurich:20220511T120000
DTEND;TZID=Europe/Zurich:20220511T140000
LOCATION:E-Lunch\, Zugangscode: 799-898-581\, Schweiz
CATEGORIES:Rotary
END:VEVENT
BEGIN:VTIMEZONE
TZID:Europe/Zurich
BEGIN:DAYLIGHT
DTSTART:20220511T120000
TZNAME:CEST
TZOFFSETTO:+0200
TZOFFSETFROM:+0200
END:DAYLIGHT
END:VTIMEZONE
END:VCALENDAR
