BEGIN:VCALENDAR
PRODID:-//eluceo/ical//2.0/EN
VERSION:2.0
CALSCALE:GREGORIAN
BEGIN:VEVENT
UID:5b888b8abad404e9fc4c10d7c51fdac1
DTSTAMP:20260422T022220Z
SUMMARY:Clubreise nach Salzburg
DESCRIPTION:Conférencier(s): 
URL:https://rotary-limmattal.ch/fr/agenda/show/139700
DTSTART;TZID=Europe/Zurich:20220526T090000
DTEND;TZID=Europe/Zurich:20220529T170000
LOCATION:Salzburg
CATEGORIES:Rotary
END:VEVENT
BEGIN:VTIMEZONE
TZID:Europe/Zurich
BEGIN:DAYLIGHT
DTSTART:20220526T090000
TZNAME:CEST
TZOFFSETTO:+0200
TZOFFSETFROM:+0200
END:DAYLIGHT
END:VTIMEZONE
END:VCALENDAR
