BEGIN:VCALENDAR
PRODID:-//eluceo/ical//2.0/EN
VERSION:2.0
CALSCALE:GREGORIAN
BEGIN:VEVENT
UID:90d316c1e7ce733d6afab3f65aac2fb8
DTSTAMP:20260422T120101Z
SUMMARY:Bäume der Freundschaft
DESCRIPTION:
URL:https://rotary-limmattal.ch/fr/agenda/show/133638
DTSTART;TZID=Europe/Zurich:20211106T100000
DTEND;TZID=Europe/Zurich:20211116T160000
LOCATION:Rottweil
CATEGORIES:Rotary
END:VEVENT
BEGIN:VTIMEZONE
TZID:Europe/Zurich
BEGIN:STANDARD
DTSTART:20211106T100000
TZNAME:CET
TZOFFSETTO:+0100
TZOFFSETFROM:+0100
END:STANDARD
END:VTIMEZONE
END:VCALENDAR
