BEGIN:VCALENDAR
PRODID:-//eluceo/ical//2.0/EN
VERSION:2.0
CALSCALE:GREGORIAN
BEGIN:VEVENT
UID:a611e127489d2c4d74f4561065ade701
DTSTAMP:20260420T094740Z
SUMMARY:Rot. Marco Baur - Water Survival Box
DESCRIPTION:Sitio web: https://www.gotomeeting.com/de-ch/meeting/meeting-be
 itreten\nOrador(es): Marco Baur
URL:https://rotary-limmattal.ch/es/agenda/show/182561
DTSTART;TZID=Europe/Zurich:20241120T120000
DTEND;TZID=Europe/Zurich:20241120T140000
LOCATION:E-Lunch\, Zugangscode: 799-898-581\, Schweiz
CATEGORIES:Rotary
END:VEVENT
BEGIN:VTIMEZONE
TZID:Europe/Zurich
BEGIN:STANDARD
DTSTART:20241120T120000
TZNAME:CET
TZOFFSETTO:+0100
TZOFFSETFROM:+0100
END:STANDARD
END:VTIMEZONE
END:VCALENDAR
