BEGIN:VCALENDAR
PRODID:-//eluceo/ical//2.0/EN
VERSION:2.0
CALSCALE:GREGORIAN
BEGIN:VEVENT
UID:87dea73d9f5d9a19fc76a9d79497e50f
DTSTAMP:20260421T100821Z
SUMMARY:Mine-ex Curling-Turnier - Infos folgen
DESCRIPTION:Programm siehe Beilage\nWebsite: http://www.cclimmattal.ch/inde
 x.php?id=10\nSpeaker(s): Mine-ex Curling-Turnier mit den 6 RCs der Region.
  Organisiert wird es dieses Mal durch den letztjährigen Gewinner\, den RC
  Knonaueramt. Infos folgen
URL:https://rotary-limmattal.ch/en/agenda/show/56181
DTSTART;TZID=Europe/Zurich:20151031T083000
DTEND;TZID=Europe/Zurich:20151031T153000
LOCATION:Eishalle Urdorf
CATEGORIES:Rotary
END:VEVENT
BEGIN:VTIMEZONE
TZID:Europe/Zurich
BEGIN:STANDARD
DTSTART:20151031T083000
TZNAME:CET
TZOFFSETTO:+0100
TZOFFSETFROM:+0100
END:STANDARD
END:VTIMEZONE
END:VCALENDAR
