BEGIN:VCALENDAR
PRODID:-//eluceo/ical//2.0/EN
VERSION:2.0
CALSCALE:GREGORIAN
BEGIN:VEVENT
UID:f12aa9b02e9ef1706802ad2fc84d3cf1
DTSTAMP:20260421T081642Z
SUMMARY:Klassifikationsvortrag Christian Bertschinger
DESCRIPTION:
URL:https://rotary-limmattal.ch/en/agenda/show/56167
DTSTART;TZID=Europe/Zurich:20151104T120000
DTEND;TZID=Europe/Zurich:20151104T140000
LOCATION:Taverne zur Krone
CATEGORIES:Rotary
END:VEVENT
BEGIN:VTIMEZONE
TZID:Europe/Zurich
BEGIN:STANDARD
DTSTART:20151104T120000
TZNAME:CET
TZOFFSETTO:+0100
TZOFFSETFROM:+0100
END:STANDARD
END:VTIMEZONE
END:VCALENDAR
