BEGIN:VCALENDAR
PRODID:-//eluceo/ical//2.0/EN
VERSION:2.0
CALSCALE:GREGORIAN
BEGIN:VEVENT
UID:4f14d4755e0c2f625b5ba3989ff3f70e
DTSTAMP:20260423T104011Z
SUMMARY:Plauderlunch
DESCRIPTION:
URL:https://rotary-limmattal.ch/en/agenda/show/56166
DTSTART;TZID=Europe/Zurich:20151028T120000
DTEND;TZID=Europe/Zurich:20151028T140000
LOCATION:Taverne zur Krone
CATEGORIES:Rotary
END:VEVENT
BEGIN:VTIMEZONE
TZID:Europe/Zurich
BEGIN:STANDARD
DTSTART:20151028T120000
TZNAME:CET
TZOFFSETTO:+0100
TZOFFSETFROM:+0100
END:STANDARD
END:VTIMEZONE
END:VCALENDAR
