BEGIN:VCALENDAR
PRODID:-//eluceo/ical//2.0/EN
VERSION:2.0
CALSCALE:GREGORIAN
BEGIN:VEVENT
UID:9cfc7af32764d459811bb68d1688c396
DTSTAMP:20260421T101331Z
SUMMARY:Trauerlunch zu Ehren von Rotarier Dirilgen Necdet
DESCRIPTION:Speaker(s): Dieter Burckhardt
URL:https://rotary-limmattal.ch/en/agenda/show/50255
DTSTART;TZID=Europe/Zurich:20150422T120000
DTEND;TZID=Europe/Zurich:20150422T140000
LOCATION:Restaurant Stürmeierhuus
CATEGORIES:Rotary
END:VEVENT
BEGIN:VTIMEZONE
TZID:Europe/Zurich
BEGIN:DAYLIGHT
DTSTART:20150422T120000
TZNAME:CEST
TZOFFSETTO:+0200
TZOFFSETFROM:+0200
END:DAYLIGHT
END:VTIMEZONE
END:VCALENDAR
