BEGIN:VCALENDAR
PRODID:-//eluceo/ical//2.0/EN
VERSION:2.0
CALSCALE:GREGORIAN
BEGIN:VEVENT
UID:adbf4bf359f8f3a04c4f242ee616117c
DTSTAMP:20260423T132531Z
SUMMARY:Sommeranlass Solvita
DESCRIPTION:
URL:https://rotary-limmattal.ch/en/agenda/show/212190
DTSTART;TZID=Europe/Zurich:20260530T123000
DTEND;TZID=Europe/Zurich:20260530T163000
LOCATION:Technorama
CATEGORIES:Rotary
END:VEVENT
BEGIN:VTIMEZONE
TZID:Europe/Zurich
BEGIN:DAYLIGHT
DTSTART:20260530T123000
TZNAME:CEST
TZOFFSETTO:+0200
TZOFFSETFROM:+0200
END:DAYLIGHT
END:VTIMEZONE
END:VCALENDAR
