BEGIN:VCALENDAR
PRODID:-//eluceo/ical//2.0/EN
VERSION:2.0
CALSCALE:GREGORIAN
BEGIN:VEVENT
UID:6d8a0d41b1942b4578787323f74aabb1
DTSTAMP:20260421T122638Z
SUMMARY:Vortrag: "Blick in den politischen Alltag"
DESCRIPTION:Speaker(s): Kantonsrätin Brigitta Johner
URL:https://rotary-limmattal.ch/en/agenda/show/18279
DTSTART;TZID=Europe/Zurich:20110831T121500
DTEND;TZID=Europe/Zurich:20110831T121500
LOCATION:Wirtschaft zum Stürmeierhuus\, 8952 Schlieren
CATEGORIES:Rotary
END:VEVENT
BEGIN:VTIMEZONE
TZID:Europe/Zurich
BEGIN:DAYLIGHT
DTSTART:20110831T121500
TZNAME:CEST
TZOFFSETTO:+0200
TZOFFSETFROM:+0200
END:DAYLIGHT
END:VTIMEZONE
END:VCALENDAR
