BEGIN:VCALENDAR
PRODID:-//eluceo/ical//2.0/EN
VERSION:2.0
CALSCALE:GREGORIAN
BEGIN:VEVENT
UID:dd2f1195c7adb6e97dcdffbfaf6c8943
DTSTAMP:20260423T080738Z
SUMMARY:Breakfast @clouds
DESCRIPTION:Rotary Club ZH-Limmattal\n\nFreitag\, 13. März 2015 \n\n7.00h
  bis 8.00h \n\nCHF 33.- pro Person \n\n \n\nPrime Tower\, Maagplatz 5\,
  ZH \n\nBitte um Anmeldung bei \n\n \n\nandreas@andreasschwaller.ch\n\n
 079 417 49 43\nWebseite: http://www.clouds.ch\nReferenten/innen: RC Züric
 h-Limmattal
URL:https://rotary-limmattal.ch/de/agenda/show/47492
DTSTART;TZID=Europe/Zurich:20150313T070000
DTEND;TZID=Europe/Zurich:20150313T080000
LOCATION:Restaurant Clouds\, Maagplatz 5\, 8005 Zürich
CATEGORIES:Rotary
END:VEVENT
BEGIN:VTIMEZONE
TZID:Europe/Zurich
BEGIN:STANDARD
DTSTART:20150313T070000
TZNAME:CET
TZOFFSETTO:+0100
TZOFFSETFROM:+0100
END:STANDARD
END:VTIMEZONE
END:VCALENDAR
