BEGIN:VCALENDAR
PRODID:-//eluceo/ical//2.0/EN
VERSION:2.0
CALSCALE:GREGORIAN
BEGIN:VEVENT
UID:7efb12d3b414f628e02c26a22fbe544c
DTSTAMP:20260423T062412Z
SUMMARY:Plauderlunch
DESCRIPTION:
URL:https://rotary-limmattal.ch/de/agenda/show/47491
DTSTART;TZID=Europe/Zurich:20150311T120000
DTEND;TZID=Europe/Zurich:20150311T140000
LOCATION:Restaurant Stürmeierhuus
CATEGORIES:Rotary
END:VEVENT
BEGIN:VTIMEZONE
TZID:Europe/Zurich
BEGIN:STANDARD
DTSTART:20150311T120000
TZNAME:CET
TZOFFSETTO:+0100
TZOFFSETFROM:+0100
END:STANDARD
END:VTIMEZONE
END:VCALENDAR
