BEGIN:VCALENDAR
PRODID:-//eluceo/ical//2.0/EN
VERSION:2.0
CALSCALE:GREGORIAN
BEGIN:VEVENT
UID:908f73048c6f775e7d0d812a300f0be2
DTSTAMP:20260423T131200Z
SUMMARY:Schach zu Gunsten Shelter Box -  gem. sep. Einladung Rot. Peter Pfi
 ffner
DESCRIPTION:Simultan-Schachturnier mit Peter Pfiffner \n\n\nSamstag\, 1
 3. September 2014\, 14.30 Uhr\, in unserem Limmattaler Clubkokal “Stü
 rmermeierhuus”\n\nzugunsten des rotarischen Projektes “SHELTERBOX” d
 urchführt \n\n \n\nFür die Rotweiler Freunde offeriert Peter den Spez
 ialpreis von CHF 250.-\n\nAnmeldeschluss ist der 30. August. Wir hoffen u
 nd freuen uns auf eine zahlreiche Beteiligung\,\n\nbesonders auch von jene
 n\, die ihr Matt schon für den 10. Zug befürchten – sogar das macht Sp
 ass!\n\n \n\nImpressionen vom letzten Anlass - hier klicken\nReferenten/i
 nnen: Rot. Peter Pfiffner
URL:https://rotary-limmattal.ch/de/agenda/show/43691
DTSTART;TZID=Europe/Zurich:20140913T143000
DTEND;TZID=Europe/Zurich:20140913T170000
LOCATION:Restaurant Stürmeierhuus
CATEGORIES:Rotary
END:VEVENT
BEGIN:VTIMEZONE
TZID:Europe/Zurich
BEGIN:DAYLIGHT
DTSTART:20140913T143000
TZNAME:CEST
TZOFFSETTO:+0200
TZOFFSETFROM:+0200
END:DAYLIGHT
END:VTIMEZONE
END:VCALENDAR
