BEGIN:VCALENDAR
PRODID:-//eluceo/ical//2.0/EN
VERSION:2.0
CALSCALE:GREGORIAN
BEGIN:VEVENT
UID:89a3213348935cdb5957052edd952758
DTSTAMP:20260422T231636Z
SUMMARY:Plauderlunch & Kurzpräsentation RCMS
DESCRIPTION:Webseite: http://www.stuermeierhuus.ch\nReferenten/innen: Rot. 
 Pascal Schlittler
URL:https://rotary-limmattal.ch/de/agenda/show/43689
DTSTART;TZID=Europe/Zurich:20140903T121500
DTEND;TZID=Europe/Zurich:20140903T121500
LOCATION:Restaurant Stürmeierhuus
CATEGORIES:Rotary
END:VEVENT
BEGIN:VTIMEZONE
TZID:Europe/Zurich
BEGIN:DAYLIGHT
DTSTART:20140903T121500
TZNAME:CEST
TZOFFSETTO:+0200
TZOFFSETFROM:+0200
END:DAYLIGHT
END:VTIMEZONE
END:VCALENDAR
