BEGIN:VCALENDAR
PRODID:-//eluceo/ical//2.0/EN
VERSION:2.0
CALSCALE:GREGORIAN
BEGIN:VEVENT
UID:f79c06f9ce48cd86b8754aab70418f34
DTSTAMP:20260423T130808Z
SUMMARY:Breakfast@Clouds - gem. sep. Einladung NICHT IM CLUBLOKAL
DESCRIPTION:Einladung zum ersten Frühstück des RC Zürich-Limmattal\n\nBe
 itrag: CHF 25.- pro Person.\n\n \nMenü: Breakfast vom feinsten.\nWebseit
 e: http://clouds.ch/#Home.aspx\nReferenten/innen: Plauderfrühstück
URL:https://rotary-limmattal.ch/de/agenda/show/43684
DTSTART;TZID=Europe/Zurich:20140911T070000
DTEND;TZID=Europe/Zurich:20140911T080000
LOCATION:Restaurant Clouds\, Maagplatz 5\, 8005 Zürich
CATEGORIES:Rotary
END:VEVENT
BEGIN:VTIMEZONE
TZID:Europe/Zurich
BEGIN:DAYLIGHT
DTSTART:20140911T070000
TZNAME:CEST
TZOFFSETTO:+0200
TZOFFSETFROM:+0200
END:DAYLIGHT
END:VTIMEZONE
END:VCALENDAR
