BEGIN:VCALENDAR
PRODID:-//eluceo/ical//2.0/EN
VERSION:2.0
CALSCALE:GREGORIAN
BEGIN:VEVENT
UID:90beb8c2902de3369e88c0f59b2ff5f5
DTSTAMP:20260422T180803Z
SUMMARY:Altberg-Wanderung mit RC Rottweil  
DESCRIPTION:Programm\n\n11:30 Uhr Fussmarsch zur Waldschenke Altberg\n\n12:
 15 Uhr Apéro und Lunch mit kalter Platte\n\n14:00 Uhr offizieller Schluss
 \n\n \n\nMitfahrgelegenheit\n\nWer eine Fahrgelegenheit zur Waldschenke b
 enötigt\, melde sich bei Fritz Schreck.\nMenü: Altberg-Plättli
URL:https://rotary-limmattal.ch/de/agenda/show/43681
DTSTART;TZID=Europe/Zurich:20140813T113000
DTEND;TZID=Europe/Zurich:20140813T113000
LOCATION:Beim Rank oberhalb Weiningen
CATEGORIES:Rotary
END:VEVENT
BEGIN:VTIMEZONE
TZID:Europe/Zurich
BEGIN:DAYLIGHT
DTSTART:20140813T113000
TZNAME:CEST
TZOFFSETTO:+0200
TZOFFSETFROM:+0200
END:DAYLIGHT
END:VTIMEZONE
END:VCALENDAR
