BEGIN:VCALENDAR
PRODID:-//eluceo/ical//2.0/EN
VERSION:2.0
CALSCALE:GREGORIAN
BEGIN:VEVENT
UID:ec5e8f304b162530934fb5f8bd0c74dc
DTSTAMP:20260422T163538Z
SUMMARY:Plauderlunch
DESCRIPTION:
URL:https://rotary-limmattal.ch/de/agenda/show/43680
DTSTART;TZID=Europe/Zurich:20140806T121500
DTEND;TZID=Europe/Zurich:20140806T121500
LOCATION:Restaurant Stürmeierhuus
CATEGORIES:Rotary
END:VEVENT
BEGIN:VTIMEZONE
TZID:Europe/Zurich
BEGIN:DAYLIGHT
DTSTART:20140806T121500
TZNAME:CEST
TZOFFSETTO:+0200
TZOFFSETFROM:+0200
END:DAYLIGHT
END:VTIMEZONE
END:VCALENDAR
