BEGIN:VCALENDAR
PRODID:-//eluceo/ical//2.0/EN
VERSION:2.0
CALSCALE:GREGORIAN
BEGIN:VEVENT
UID:6ac4c94ea4b7a0a95f1f429e7d9729e2
DTSTAMP:20260422T145310Z
SUMMARY:"Wurst am Wasser"  
DESCRIPTION:Referenten/innen: gem. sep. Einladung NICHT IM CLUBLOKAL !!
URL:https://rotary-limmattal.ch/de/agenda/show/43679
DTSTART;TZID=Europe/Zurich:20140730T121500
DTEND;TZID=Europe/Zurich:20140730T121500
LOCATION:Dietikon
CATEGORIES:Rotary
END:VEVENT
BEGIN:VTIMEZONE
TZID:Europe/Zurich
BEGIN:DAYLIGHT
DTSTART:20140730T121500
TZNAME:CEST
TZOFFSETTO:+0200
TZOFFSETFROM:+0200
END:DAYLIGHT
END:VTIMEZONE
END:VCALENDAR
