BEGIN:VCALENDAR
PRODID:-//eluceo/ical//2.0/EN
VERSION:2.0
CALSCALE:GREGORIAN
BEGIN:VEVENT
UID:51b1b6ca99dc14f53555c9cd19636fa1
DTSTAMP:20260421T082733Z
SUMMARY:Klassifikationsvortrag Vanja Gubler
DESCRIPTION:Web stranica: https://www.gotomeeting.com/de-ch/meeting/meeting
 -beitreten\nGovornik(ci): Vanja Gubler
URL:https://rotary-limmattal.ch/bs/agenda/show/190490
DTSTART;TZID=Europe/Zurich:20250507T120000
DTEND;TZID=Europe/Zurich:20250507T140000
LOCATION:E-Lunch\, Zugangscode: 799-898-581\, Schweiz
CATEGORIES:Rotary
END:VEVENT
BEGIN:VTIMEZONE
TZID:Europe/Zurich
BEGIN:DAYLIGHT
DTSTART:20250507T120000
TZNAME:CEST
TZOFFSETTO:+0200
TZOFFSETFROM:+0200
END:DAYLIGHT
END:VTIMEZONE
END:VCALENDAR
